BEGIN:VCALENDAR
VERSION:2.0
PRODID:-//hacksw/handcal//NONSGML v1.0//EN
CALSCALE:GREGORIAN
X-WR-TIMEZONE:Europe/Vienna
BEGIN:VEVENT
DESCRIPTION:Kasperltheater
DTSTART:20260506T150000
DTEND:20260506T153000
URL;VALUE=URI:https://www.varena.at/de/events/kasperltheater/2026-05-06
SUMMARY:Kasperltheater
LOCATION:VARENA Plaza
DTSTAMP:20260419T145316
UID:69e4ec5c785a6
END:VEVENT
END:VCALENDAR