BEGIN:VCALENDAR
VERSION:2.0
PRODID:-//hacksw/handcal//NONSGML v1.0//EN
CALSCALE:GREGORIAN
X-WR-TIMEZONE:Europe/Vienna
BEGIN:VEVENT
DESCRIPTION:Piloxing
DTSTART:20260416T173000
DTEND:20260416T183000
URL;VALUE=URI:https://www.varena.at/de/events/piloxing-ssp-piloxing-knockout/2026-04-16
SUMMARY:Piloxing
LOCATION:Freiraum
DTSTAMP:20260420T083642
UID:69e5e59ab1c1a
END:VEVENT
END:VCALENDAR