BEGIN:VCALENDAR
VERSION:2.0
PRODID:-//hacksw/handcal//NONSGML v1.0//EN
CALSCALE:GREGORIAN
X-WR-TIMEZONE:Europe/Vienna
BEGIN:VEVENT
DESCRIPTION:Piloxing
DTSTART:20260710T130000
DTEND:20260710T140000
URL;VALUE=URI:https://www.varena.at/de/events/piloxing-ssp-piloxing-knockout/2026-07-10
SUMMARY:Piloxing
LOCATION:Freiraum
DTSTAMP:20260420T084113
UID:69e5e6a9cdb0e
END:VEVENT
END:VCALENDAR